Package: Spectra Version: 1.19.8 Command: /Library/Frameworks/R.framework/Resources/bin/R CMD INSTALL Spectra StartedAt: 2025-10-03 15:15:54 -0400 (Fri, 03 Oct 2025) EndedAt: 2025-10-03 15:16:23 -0400 (Fri, 03 Oct 2025) EllapsedTime: 29.0 seconds RetCode: 0 Status: OK