Package: Spectra Version: 1.19.8 Command: /Library/Frameworks/R.framework/Resources/bin/R CMD build --keep-empty-dirs --no-resave-data Spectra StartedAt: 2025-10-03 19:10:09 -0400 (Fri, 03 Oct 2025) EndedAt: 2025-10-03 19:11:37 -0400 (Fri, 03 Oct 2025) EllapsedTime: 88.0 seconds RetCode: 0 Status: OK PackageFile: Spectra_1.19.8.tar.gz PackageFileSize: 1.523 MiB