Package: Spectra Version: 1.19.8 Command: rm -rf Spectra.buildbin-libdir && mkdir Spectra.buildbin-libdir && /Users/biocbuild/BBS/utils/build-universal.sh Spectra_1.19.8.tar.gz /Library/Frameworks/R.framework/Resources/bin/R Spectra.buildbin-libdir StartedAt: 2025-10-04 02:32:08 -0400 (Sat, 04 Oct 2025) EndedAt: 2025-10-04 02:32:33 -0400 (Sat, 04 Oct 2025) EllapsedTime: 25.3 seconds RetCode: 0 Status: OK PackageFile: Spectra_1.19.8.tgz PackageFileSize: 2.134 MiB