Package: Spectra Version: 1.19.8 Maintainer: RforMassSpectrometry Package Maintainer MaintainerEmail: maintainer at rformassspectrometry.org git_url: https://git.bioconductor.org/packages/Spectra git_branch: devel git_last_commit: 3540c00 git_last_commit_date: 2025-10-06 01:38:50 -0400 (Mon, 06 Oct 2025)