Package: SpeCond Version: 1.65.0 Command: /home/biocbuild/bbs-3.23-bioc/R/bin/R CMD INSTALL SpeCond StartedAt: 2025-11-20 15:13:03 -0500 (Thu, 20 Nov 2025) EndedAt: 2025-11-20 15:13:09 -0500 (Thu, 20 Nov 2025) EllapsedTime: 6.6 seconds RetCode: 0 Status: OK