Package: SpeCond Version: 1.63.0 Command: /Library/Frameworks/R.framework/Resources/bin/R CMD INSTALL SpeCond StartedAt: 2025-10-20 15:15:07 -0400 (Mon, 20 Oct 2025) EndedAt: 2025-10-20 15:15:25 -0400 (Mon, 20 Oct 2025) EllapsedTime: 17.4 seconds RetCode: 0 Status: OK