Package: SpeCond Version: 1.63.0 Command: /Library/Frameworks/R.framework/Resources/bin/R CMD INSTALL SpeCond StartedAt: 2025-10-03 15:07:43 -0400 (Fri, 03 Oct 2025) EndedAt: 2025-10-03 15:07:47 -0400 (Fri, 03 Oct 2025) EllapsedTime: 3.4 seconds RetCode: 0 Status: OK