Package: SpatialOmicsOverlay Version: 1.9.1 Command: chmod a+r SpatialOmicsOverlay -R && F:\biocbuild\bbs-3.22-bioc\R\bin\R.exe CMD build --keep-empty-dirs --no-resave-data SpatialOmicsOverlay StartedAt: 2025-08-14 23:27:54 -0400 (Thu, 14 Aug 2025) EndedAt: 2025-08-14 23:39:11 -0400 (Thu, 14 Aug 2025) EllapsedTime: 677.2 seconds RetCode: 0 Status: OK PackageFile: SpatialOmicsOverlay_1.9.1.tar.gz PackageFileSize: 4.308 MiB