Package: SpatialOmicsOverlay Version: 1.9.2 Command: /home/biocbuild/bbs-3.22-bioc/R/bin/R CMD check --install=check:SpatialOmicsOverlay.install-out.txt --library=/home/biocbuild/bbs-3.22-bioc/R/site-library --timings SpatialOmicsOverlay_1.9.2.tar.gz StartedAt: 2025-10-06 04:42:31 -0400 (Mon, 06 Oct 2025) EndedAt: 2025-10-06 04:57:33 -0400 (Mon, 06 Oct 2025) EllapsedTime: 901.9 seconds RetCode: 0 Status: OK CheckDir: SpatialOmicsOverlay.Rcheck Warnings: 0