Package: SpatialFeatureExperiment Version: 1.13.0 Command: /home/biocbuild/bbs-3.23-bioc/R/bin/R CMD INSTALL SpatialFeatureExperiment StartedAt: 2025-11-05 15:44:21 -0500 (Wed, 05 Nov 2025) EndedAt: 2025-11-05 15:45:19 -0500 (Wed, 05 Nov 2025) EllapsedTime: 57.5 seconds RetCode: 0 Status: OK