Package: SpatialFeatureExperiment Version: 1.13.0 Command: /home/biocbuild/bbs-3.23-bioc/R/bin/R CMD check --install=check:SpatialFeatureExperiment.install-out.txt --library=/home/biocbuild/bbs-3.23-bioc/R/site-library --timings SpatialFeatureExperiment_1.13.0.tar.gz StartedAt: 2025-11-27 04:17:38 -0500 (Thu, 27 Nov 2025) EndedAt: 2025-11-27 04:37:54 -0500 (Thu, 27 Nov 2025) EllapsedTime: 1216.4 seconds RetCode: 0 Status: OK CheckDir: SpatialFeatureExperiment.Rcheck Warnings: 0