Package: SpatialFeatureExperiment Version: 1.13.0 Command: /home/biocbuild/bbs-3.23-bioc/R/bin/R CMD build --keep-empty-dirs --no-resave-data SpatialFeatureExperiment StartedAt: 2025-11-05 20:14:37 -0500 (Wed, 05 Nov 2025) EndedAt: 2025-11-05 20:16:27 -0500 (Wed, 05 Nov 2025) EllapsedTime: 110.1 seconds RetCode: 1 Status: ERROR PackageFile: None PackageFileSize: NA