Package: SpatialFeatureExperiment Version: 1.11.1 Command: /Library/Frameworks/R.framework/Resources/bin/R CMD check --install=check:SpatialFeatureExperiment.install-out.txt --library=/Library/Frameworks/R.framework/Resources/library --no-vignettes --timings SpatialFeatureExperiment_1.11.1.tar.gz StartedAt: 2025-10-09 01:19:37 -0400 (Thu, 09 Oct 2025) EndedAt: 2025-10-09 01:42:26 -0400 (Thu, 09 Oct 2025) EllapsedTime: 1368.6 seconds RetCode: 0 Status: OK CheckDir: SpatialFeatureExperiment.Rcheck Warnings: 0