Package: SpatialFeatureExperiment Version: 1.11.1 Command: /Library/Frameworks/R.framework/Resources/bin/R CMD check --install=check:SpatialFeatureExperiment.install-out.txt --library=/Library/Frameworks/R.framework/Resources/library --no-vignettes --timings SpatialFeatureExperiment_1.11.1.tar.gz StartedAt: 2025-10-08 22:00:46 -0400 (Wed, 08 Oct 2025) EndedAt: 2025-10-08 22:07:55 -0400 (Wed, 08 Oct 2025) EllapsedTime: 428.9 seconds RetCode: 1 Status: ERROR CheckDir: SpatialFeatureExperiment.Rcheck Warnings: NA