Package: SpatialExperimentIO Version: 1.3.0 Command: /home/biocbuild/bbs-3.23-bioc/R/bin/R CMD check --install=check:SpatialExperimentIO.install-out.txt --library=/home/biocbuild/bbs-3.23-bioc/R/site-library --timings SpatialExperimentIO_1.3.0.tar.gz StartedAt: 2025-11-21 04:16:40 -0500 (Fri, 21 Nov 2025) EndedAt: 2025-11-21 04:20:33 -0500 (Fri, 21 Nov 2025) EllapsedTime: 232.3 seconds RetCode: 0 Status: OK CheckDir: SpatialExperimentIO.Rcheck Warnings: 0