Package: SpatialExperimentIO Version: 1.1.0 Command: /Library/Frameworks/R.framework/Resources/bin/R CMD check --install=check:SpatialExperimentIO.install-out.txt --library=/Library/Frameworks/R.framework/Resources/library --no-vignettes --timings SpatialExperimentIO_1.1.0.tar.gz StartedAt: 2025-10-17 02:37:01 -0400 (Fri, 17 Oct 2025) EndedAt: 2025-10-17 02:41:19 -0400 (Fri, 17 Oct 2025) EllapsedTime: 258.4 seconds RetCode: 0 Status: OK CheckDir: SpatialExperimentIO.Rcheck Warnings: 0