Package: SpatialExperiment Version: 1.21.0 Command: /home/biocbuild/bbs-3.23-bioc/R/bin/R CMD INSTALL SpatialExperiment StartedAt: 2025-11-20 15:19:09 -0500 (Thu, 20 Nov 2025) EndedAt: 2025-11-20 15:19:34 -0500 (Thu, 20 Nov 2025) EllapsedTime: 24.9 seconds RetCode: 0 Status: OK