Package: SpatialExperiment Version: 1.21.0 Command: /home/biocbuild/bbs-3.23-bioc/R/bin/R CMD build --keep-empty-dirs --no-resave-data SpatialExperiment StartedAt: 2025-11-20 20:14:34 -0500 (Thu, 20 Nov 2025) EndedAt: 2025-11-20 20:15:35 -0500 (Thu, 20 Nov 2025) EllapsedTime: 61.0 seconds RetCode: 0 Status: OK PackageFile: SpatialExperiment_1.21.0.tar.gz PackageFileSize: 5.157 MiB