Package: SpatialDecon Version: 1.21.0 Command: /home/biocbuild/bbs-3.23-bioc/R/bin/R CMD INSTALL SpatialDecon StartedAt: 2025-11-03 15:59:45 -0500 (Mon, 03 Nov 2025) EndedAt: 2025-11-03 16:00:08 -0500 (Mon, 03 Nov 2025) EllapsedTime: 23.3 seconds RetCode: 0 Status: OK