Package: SpatialDecon Version: 1.19.0 Command: /Library/Frameworks/R.framework/Resources/bin/R CMD check --install=check:SpatialDecon.install-out.txt --library=/Library/Frameworks/R.framework/Resources/library --no-vignettes --timings SpatialDecon_1.19.0.tar.gz StartedAt: 2025-10-22 22:11:57 -0400 (Wed, 22 Oct 2025) EndedAt: 2025-10-22 22:15:24 -0400 (Wed, 22 Oct 2025) EllapsedTime: 206.4 seconds RetCode: 0 Status: OK CheckDir: SpatialDecon.Rcheck Warnings: 0