Package: SpatialCPie Version: 1.25.0 Command: /home/biocbuild/R/R/bin/R CMD INSTALL SpatialCPie StartedAt: 2025-10-23 20:36:44 -0000 (Thu, 23 Oct 2025) EndedAt: 2025-10-23 20:37:17 -0000 (Thu, 23 Oct 2025) EllapsedTime: 32.9 seconds RetCode: 0 Status: OK