Package: SpatialCPie Version: 1.25.0 Command: /home/biocbuild/R/R/bin/R CMD build --keep-empty-dirs --no-resave-data SpatialCPie StartedAt: 2025-10-21 03:21:02 -0000 (Tue, 21 Oct 2025) EndedAt: 2025-10-21 03:22:08 -0000 (Tue, 21 Oct 2025) EllapsedTime: 66.0 seconds RetCode: 0 Status: OK PackageFile: SpatialCPie_1.25.0.tar.gz PackageFileSize: 1016 KiB