Package: SparseSignatures Version: 2.21.0 Command: /home/biocbuild/bbs-3.23-bioc/R/bin/R CMD build --keep-empty-dirs --no-resave-data SparseSignatures StartedAt: 2025-11-04 20:06:43 -0500 (Tue, 04 Nov 2025) EndedAt: 2025-11-04 20:10:33 -0500 (Tue, 04 Nov 2025) EllapsedTime: 229.2 seconds RetCode: 0 Status: OK PackageFile: SparseSignatures_2.21.0.tar.gz PackageFileSize: 1.469 MiB