Package: SparseSignatures Version: 2.19.2 Command: /Library/Frameworks/R.framework/Resources/bin/R CMD check --install=check:SparseSignatures.install-out.txt --library=/Library/Frameworks/R.framework/Resources/library --no-vignettes --timings SparseSignatures_2.19.2.tar.gz StartedAt: 2025-10-28 00:59:46 -0400 (Tue, 28 Oct 2025) EndedAt: 2025-10-28 01:13:42 -0400 (Tue, 28 Oct 2025) EllapsedTime: 836.4 seconds RetCode: 0 Status: OK CheckDir: SparseSignatures.Rcheck Warnings: 0