Package: SparseSignatures Version: 2.19.2 Command: /Library/Frameworks/R.framework/Resources/bin/R CMD check --install=check:SparseSignatures.install-out.txt --library=/Library/Frameworks/R.framework/Resources/library --no-vignettes --timings SparseSignatures_2.19.2.tar.gz StartedAt: 2025-10-07 21:57:16 -0400 (Tue, 07 Oct 2025) EndedAt: 2025-10-07 22:02:30 -0400 (Tue, 07 Oct 2025) EllapsedTime: 313.6 seconds RetCode: 0 Status: OK CheckDir: SparseSignatures.Rcheck Warnings: 0