Package: SparseArray Version: 1.11.3 Command: /home/biocbuild/bbs-3.23-bioc/R/bin/R CMD INSTALL SparseArray StartedAt: 2025-11-20 15:13:59 -0500 (Thu, 20 Nov 2025) EndedAt: 2025-11-20 15:14:33 -0500 (Thu, 20 Nov 2025) EllapsedTime: 33.9 seconds RetCode: 0 Status: OK