Package: SparseArray Version: 1.11.3 Command: /home/biocbuild/bbs-3.23-bioc/R/bin/R CMD check --install=check:SparseArray.install-out.txt --library=/home/biocbuild/bbs-3.23-bioc/R/site-library --timings SparseArray_1.11.3.tar.gz StartedAt: 2025-11-21 04:12:36 -0500 (Fri, 21 Nov 2025) EndedAt: 2025-11-21 04:17:05 -0500 (Fri, 21 Nov 2025) EllapsedTime: 269.2 seconds RetCode: 0 Status: OK CheckDir: SparseArray.Rcheck Warnings: 0