Package: SparseArray Version: 1.11.3 Command: /home/biocbuild/bbs-3.23-bioc/R/bin/R CMD build --keep-empty-dirs --no-resave-data SparseArray StartedAt: 2025-11-20 20:13:21 -0500 (Thu, 20 Nov 2025) EndedAt: 2025-11-20 20:14:16 -0500 (Thu, 20 Nov 2025) EllapsedTime: 55.1 seconds RetCode: 0 Status: OK PackageFile: SparseArray_1.11.3.tar.gz PackageFileSize: 454 KiB