Package: Spaniel Version: 1.23.0 Command: /home/biocbuild/bbs-3.22-bioc/R/bin/R CMD check --install=check:Spaniel.install-out.txt --library=/home/biocbuild/bbs-3.22-bioc/R/site-library --timings Spaniel_1.23.0.tar.gz StartedAt: 2025-10-25 04:23:38 -0400 (Sat, 25 Oct 2025) EndedAt: 2025-10-25 04:30:22 -0400 (Sat, 25 Oct 2025) EllapsedTime: 403.3 seconds RetCode: 0 Status: OK CheckDir: Spaniel.Rcheck Warnings: 0