Package: Spaniel Version: 1.25.0 Command: /home/biocbuild/bbs-3.23-bioc/R/bin/R CMD INSTALL Spaniel StartedAt: 2025-11-05 16:01:47 -0500 (Wed, 05 Nov 2025) EndedAt: 2025-11-05 16:02:28 -0500 (Wed, 05 Nov 2025) EllapsedTime: 41.1 seconds RetCode: 0 Status: OK