Package: Spaniel Version: 1.25.0 Command: /home/biocbuild/bbs-3.23-bioc/R/bin/R CMD build --keep-empty-dirs --no-resave-data Spaniel StartedAt: 2025-11-05 20:11:49 -0500 (Wed, 05 Nov 2025) EndedAt: 2025-11-05 20:14:37 -0500 (Wed, 05 Nov 2025) EllapsedTime: 168.1 seconds RetCode: 0 Status: OK PackageFile: Spaniel_1.25.0.tar.gz PackageFileSize: 3.88 MiB