Package: Spaniel Version: 1.23.0 Command: /Library/Frameworks/R.framework/Resources/bin/R CMD INSTALL Spaniel StartedAt: 2025-10-03 15:49:06 -0400 (Fri, 03 Oct 2025) EndedAt: 2025-10-03 15:50:04 -0400 (Fri, 03 Oct 2025) EllapsedTime: 58.8 seconds RetCode: 0 Status: OK