Package: Spaniel Version: 1.23.0 Command: /Library/Frameworks/R.framework/Resources/bin/R CMD build --keep-empty-dirs --no-resave-data Spaniel StartedAt: 2025-10-03 19:07:12 -0400 (Fri, 03 Oct 2025) EndedAt: 2025-10-03 19:10:34 -0400 (Fri, 03 Oct 2025) EllapsedTime: 202.4 seconds RetCode: 0 Status: OK PackageFile: Spaniel_1.23.0.tar.gz PackageFileSize: 4.441 MiB