Package: Spaniel Version: 1.23.0 Maintainer: Rachel Queen MaintainerEmail: rachel.queen at newcastle.ac.uk git_url: https://git.bioconductor.org/packages/Spaniel git_branch: devel git_last_commit: 11182b5 git_last_commit_date: 2025-04-15 11:50:12 -0400 (Tue, 15 Apr 2025)