Package: SpaceTrooper Version: 0.99.49 Command: /Library/Frameworks/R.framework/Resources/bin/R CMD build --keep-empty-dirs --no-resave-data SpaceTrooper StartedAt: 2025-10-24 18:52:07 -0400 (Fri, 24 Oct 2025) EndedAt: 2025-10-24 18:53:58 -0400 (Fri, 24 Oct 2025) EllapsedTime: 110.7 seconds RetCode: 0 Status: OK PackageFile: SpaceTrooper_0.99.49.tar.gz PackageFileSize: 6.247 MiB