Package: SpaceTrooper Version: 0.99.49 Command: rm -rf SpaceTrooper.buildbin-libdir && mkdir SpaceTrooper.buildbin-libdir && /Users/biocbuild/BBS/utils/build-universal.sh SpaceTrooper_0.99.49.tar.gz /Library/Frameworks/R.framework/Resources/bin/R SpaceTrooper.buildbin-libdir StartedAt: 2025-10-25 02:05:43 -0400 (Sat, 25 Oct 2025) EndedAt: 2025-10-25 02:06:42 -0400 (Sat, 25 Oct 2025) EllapsedTime: 58.8 seconds RetCode: 0 Status: OK PackageFile: SpaceTrooper_0.99.49.tgz PackageFileSize: 6.444 MiB