Package: SpaceTrooper Version: 0.99.43 Command: /Library/Frameworks/R.framework/Resources/bin/R CMD INSTALL SpaceTrooper StartedAt: 2025-10-07 15:29:05 -0400 (Tue, 07 Oct 2025) EndedAt: 2025-10-07 15:29:28 -0400 (Tue, 07 Oct 2025) EllapsedTime: 22.6 seconds RetCode: 0 Status: OK