Package: SpaceTrooper Version: 0.99.42 Command: /Library/Frameworks/R.framework/Resources/bin/R CMD build --keep-empty-dirs --no-resave-data SpaceTrooper StartedAt: 2025-10-06 17:47:54 -0400 (Mon, 06 Oct 2025) EndedAt: 2025-10-06 17:48:47 -0400 (Mon, 06 Oct 2025) EllapsedTime: 52.6 seconds RetCode: 0 Status: OK PackageFile: SpaceTrooper_0.99.42.tar.gz PackageFileSize: 7.797 MiB