Package: SpaceTrooper Version: 0.99.42 Command: rm -rf SpaceTrooper.buildbin-libdir && mkdir SpaceTrooper.buildbin-libdir && /Users/biocbuild/BBS/utils/build-universal.sh SpaceTrooper_0.99.42.tar.gz /Library/Frameworks/R.framework/Resources/bin/R SpaceTrooper.buildbin-libdir StartedAt: 2025-10-06 23:01:33 -0400 (Mon, 06 Oct 2025) EndedAt: 2025-10-06 23:01:58 -0400 (Mon, 06 Oct 2025) EllapsedTime: 25.5 seconds RetCode: 0 Status: OK PackageFile: SpaceTrooper_0.99.42.tgz PackageFileSize: 7.982 MiB