Package: SpaceMarkers Version: 2.1.0 Command: /home/biocbuild/bbs-3.23-bioc/R/bin/R CMD INSTALL SpaceMarkers StartedAt: 2025-11-07 15:11:28 -0500 (Fri, 07 Nov 2025) EndedAt: 2025-11-07 15:11:45 -0500 (Fri, 07 Nov 2025) EllapsedTime: 17.1 seconds RetCode: 0 Status: OK