Package: SpaceMarkers Version: 2.1.0 Command: /home/biocbuild/bbs-3.23-bioc/R/bin/R CMD build --keep-empty-dirs --no-resave-data SpaceMarkers StartedAt: 2025-11-07 20:07:08 -0500 (Fri, 07 Nov 2025) EndedAt: 2025-11-07 20:16:28 -0500 (Fri, 07 Nov 2025) EllapsedTime: 559.5 seconds RetCode: 0 Status: OK PackageFile: SpaceMarkers_2.1.0.tar.gz PackageFileSize: 3.096 MiB