Package: SpaceMarkers Version: 1.5.0 Command: /Library/Frameworks/R.framework/Resources/bin/R CMD INSTALL SpaceMarkers StartedAt: 2025-10-14 15:06:31 -0400 (Tue, 14 Oct 2025) EndedAt: 2025-10-14 15:06:39 -0400 (Tue, 14 Oct 2025) EllapsedTime: 7.2 seconds RetCode: 0 Status: OK