Package: SpaceMarkers Version: 1.5.0 Command: /Library/Frameworks/R.framework/Resources/bin/R CMD build --keep-empty-dirs --no-resave-data SpaceMarkers StartedAt: 2025-10-14 17:47:35 -0400 (Tue, 14 Oct 2025) EndedAt: 2025-10-14 17:49:01 -0400 (Tue, 14 Oct 2025) EllapsedTime: 85.9 seconds RetCode: 1 Status: ERROR PackageFile: None PackageFileSize: NA