Package: SpaNorm Version: 1.5.0 Command: /home/biocbuild/bbs-3.23-bioc/R/bin/R CMD INSTALL SpaNorm StartedAt: 2025-11-05 16:00:38 -0500 (Wed, 05 Nov 2025) EndedAt: 2025-11-05 16:00:42 -0500 (Wed, 05 Nov 2025) EllapsedTime: 3.2 seconds RetCode: 0 Status: OK