Package: SpaNorm Version: 1.5.0 Command: /home/biocbuild/bbs-3.23-bioc/R/bin/R CMD build --keep-empty-dirs --no-resave-data SpaNorm StartedAt: 2025-11-05 20:12:06 -0500 (Wed, 05 Nov 2025) EndedAt: 2025-11-05 20:18:17 -0500 (Wed, 05 Nov 2025) EllapsedTime: 370.3 seconds RetCode: 0 Status: OK PackageFile: SpaNorm_1.5.0.tar.gz PackageFileSize: 8.105 MiB