Package: SpaNorm Version: 1.3.0 Command: /Library/Frameworks/R.framework/Resources/bin/R CMD INSTALL SpaNorm StartedAt: 2025-10-09 15:48:51 -0400 (Thu, 09 Oct 2025) EndedAt: 2025-10-09 15:49:02 -0400 (Thu, 09 Oct 2025) EllapsedTime: 11.6 seconds RetCode: 0 Status: OK