Package: SpaNorm Version: 1.3.0 Command: /Library/Frameworks/R.framework/Resources/bin/R CMD build --keep-empty-dirs --no-resave-data SpaNorm StartedAt: 2025-10-09 19:14:47 -0400 (Thu, 09 Oct 2025) EndedAt: 2025-10-09 19:22:29 -0400 (Thu, 09 Oct 2025) EllapsedTime: 461.6 seconds RetCode: 0 Status: OK PackageFile: SpaNorm_1.3.0.tar.gz PackageFileSize: 7.477 MiB