Package: SpaNorm Version: 1.3.1 Maintainer: Dharmesh D. Bhuva MaintainerEmail: dharmesh.bhuva at adelaide.edu.au git_url: https://git.bioconductor.org/packages/SpaNorm git_branch: devel git_last_commit: 0390359 git_last_commit_date: 2025-10-14 15:00:45 -0400 (Tue, 14 Oct 2025)