Package: SomaticSignatures Version: 2.45.1 Command: /home/biocbuild/R/R/bin/R CMD INSTALL SomaticSignatures StartedAt: 2025-10-09 21:53:31 -0000 (Thu, 09 Oct 2025) EndedAt: 2025-10-09 21:54:38 -0000 (Thu, 09 Oct 2025) EllapsedTime: 67.0 seconds RetCode: 0 Status: OK