Package: SomaticSignatures Version: 2.45.1 Command: /home/biocbuild/R/R/bin/R CMD build --keep-empty-dirs --no-resave-data SomaticSignatures StartedAt: 2025-10-10 04:18:31 -0000 (Fri, 10 Oct 2025) EndedAt: 2025-10-10 04:20:02 -0000 (Fri, 10 Oct 2025) EllapsedTime: 91.0 seconds RetCode: 1 Status: ERROR PackageFile: None PackageFileSize: NA